BEGIN:VCALENDAR
VERSION:2.0
PRODID:-//wp-events-plugin.com//7.2.3.1//EN
BEGIN:VEVENT
UID:2@urmara.com
DTSTART;TZID=Europe/Madrid:20260517T120000
DTEND;TZID=Europe/Madrid:20260517T140000
DTSTAMP:20260410T154840Z
URL:https://www.urmara.com/ekitaldiak/7-material-7-eskultore-7-materiales-
 7-escultoras/
SUMMARY:7 MATERIAL 7 ESKULTORE / 7 MATERIALES 7 ESCULTORAS
DESCRIPTION:Artistak / Artistas:\n\n 	Gracia Arruiz\n 	Mar Blasco Lerma\n 	
 Barbara Camhi Jacard\n 	Maite Canto Equisoain\n 	Amaia Conde Chiralt\n 	El
 ena Scaratti\n 	Elena Solatxi\n\nKontzertua:\nIzena duena\, Maite Larburu\
 n\n\n\nSarrera dohainik da\, baina aforoa mugatua izango du. Jarduera hone
 tara joan nahi izanez gero\, idatzi zuen izen eta telefonoarekin helbide h
 onetara: urmara.alkiza@gmail.com.\n\nLa entrada será gratuita pero con af
 oro limitado. Los interesados en acudir a esta actividad podéis escribir 
 con vuestro nombre y teléfono a esta dirección: urmara.alkiza@gmail.com.
 \n\n\n\nOndoren\, community food bazkaria / Después\, comida community fo
 od.\nBeganoentzako menua ere badugu / Hay menú vegano.\n\n20 €\nLekua h
 artzeko / Para reservas: urmara.alkiza@gmail.com
ATTACH;FMTTYPE=image/jpeg:https://www.urmara.com/wp-content/uploads/2026/0
 4/graphik-2026-7-eskultore.jpg
LOCATION:Ur mara museoa\, Azaldegi Bailara\, 18\, Alkiza\, Gipuzkoa\, 20494
 \, Euskal Herria\, Spain
X-APPLE-STRUCTURED-LOCATION;VALUE=URI;X-ADDRESS=Azaldegi Bailara\, 18\, Alk
 iza\, Gipuzkoa\, 20494\, Euskal Herria\, Spain;X-APPLE-RADIUS=100;X-TITLE=
 Ur mara museoa:geo:0,0
END:VEVENT
BEGIN:VTIMEZONE
TZID:Europe/Madrid
X-LIC-LOCATION:Europe/Madrid
BEGIN:DAYLIGHT
DTSTART:20260329T030000
TZOFFSETFROM:+0100
TZOFFSETTO:+0200
TZNAME:CEST
END:DAYLIGHT
END:VTIMEZONE
END:VCALENDAR