BEGIN:VCALENDAR
VERSION:2.0
PRODID:-//wp-events-plugin.com//7.2.3.1//EN
BEGIN:VEVENT
UID:3@urmara.com
DTSTART;TZID=Europe/Madrid:20260705T120000
DTEND;TZID=Europe/Madrid:20260705T140000
DTSTAMP:20260410T154815Z
URL:https://www.urmara.com/ekitaldiak/erakusketa-gerezi-jauregi-cajaravill
 e/
SUMMARY:Erakusketa: Gerezi Jauregi Cajaraville
DESCRIPTION:Artistak / Artistas:\n\n 	Gerezi Jauregi Cajaraville\n\nEntzuna
 ldi esperimentala / Sesión de escucha experimental:\n\nINES\n\n\n\nSarrer
 a dohainik da\, baina aforoa mugatua izango du. Jarduera honetara joan nah
 i izanez gero\, idatzi zuen izen eta telefonoarekin helbide honetara: urma
 ra.alkiza@gmail.com.\n\nLa entrada será gratuita pero con aforo limitado.
  Los interesados en acudir a esta actividad podéis escribir con vuestro n
 ombre y teléfono a esta dirección: urmara.alkiza@gmail.com.\n\n\n\nOndor
 en\, community food bazkaria / Después\, comida community food.\nBeganoen
 tzako menua ere badugu / Hay menú vegano.\n\n20 €\nLekua hartzeko / Par
 a reservas: urmara.alkiza@gmail.com
ATTACH;FMTTYPE=image/jpeg:https://www.urmara.com/wp-content/uploads/2026/0
 4/graphik-2026-7-gerezi.jpg
LOCATION:Ur mara museoa\, Azaldegi Bailara\, 18\, Alkiza\, Gipuzkoa\, 20494
 \, Euskal Herria\, Spain
X-APPLE-STRUCTURED-LOCATION;VALUE=URI;X-ADDRESS=Azaldegi Bailara\, 18\, Alk
 iza\, Gipuzkoa\, 20494\, Euskal Herria\, Spain;X-APPLE-RADIUS=100;X-TITLE=
 Ur mara museoa:geo:0,0
END:VEVENT
BEGIN:VTIMEZONE
TZID:Europe/Madrid
X-LIC-LOCATION:Europe/Madrid
BEGIN:DAYLIGHT
DTSTART:20260329T030000
TZOFFSETFROM:+0100
TZOFFSETTO:+0200
TZNAME:CEST
END:DAYLIGHT
END:VTIMEZONE
END:VCALENDAR