BEGIN:VCALENDAR
VERSION:2.0
PRODID:-//wp-events-plugin.com//7.2.3.1//EN
BEGIN:VEVENT
UID:4@urmara.com
DTSTART;TZID=Europe/Madrid:20260920T120000
DTEND;TZID=Europe/Madrid:20260920T140000
DTSTAMP:20260410T080640Z
URL:https://www.urmara.com/ekitaldiak/hitzaren-babesa/
SUMMARY:Hitzaren babesa
DESCRIPTION:Hitzaldia / Charla:\n\n\n\nSarrera dohainik da\, baina aforoa m
 ugatua izango du. Jarduera honetara joan nahi izanez gero\, idatzi zuen iz
 en eta telefonoarekin helbide honetara: urmara.alkiza@gmail.com.\n\nLa ent
 rada será gratuita pero con aforo limitado. Los interesados en acudir a e
 sta actividad podéis escribir con vuestro nombre y teléfono a esta direc
 ción: urmara.alkiza@gmail.com.\n\n\n\nOndoren\, community food bazkaria /
  Después\, comida community food.\nBeganoentzako menua ere badugu / Hay m
 enú vegano.\n\n20 €\nLekua hartzeko / Para reservas: urmara.alkiza@gmai
 l.com
ATTACH;FMTTYPE=image/jpeg:https://www.urmara.com/wp-content/uploads/2026/0
 4/graphik-2026-7-hitzaren-babesa.jpg
LOCATION:Ur mara museoa\, Azaldegi Bailara\, 18\, Alkiza\, Gipuzkoa\, 20494
 \, Euskal Herria\, Spain
X-APPLE-STRUCTURED-LOCATION;VALUE=URI;X-ADDRESS=Azaldegi Bailara\, 18\, Alk
 iza\, Gipuzkoa\, 20494\, Euskal Herria\, Spain;X-APPLE-RADIUS=100;X-TITLE=
 Ur mara museoa:geo:0,0
END:VEVENT
BEGIN:VTIMEZONE
TZID:Europe/Madrid
X-LIC-LOCATION:Europe/Madrid
BEGIN:DAYLIGHT
DTSTART:20260329T030000
TZOFFSETFROM:+0100
TZOFFSETTO:+0200
TZNAME:CEST
END:DAYLIGHT
END:VTIMEZONE
END:VCALENDAR