BEGIN:VCALENDAR
VERSION:2.0
PRODID:-//wp-events-plugin.com//7.2.3.1//EN
BEGIN:VEVENT
UID:5@urmara.com
DTSTART;TZID=Europe/Madrid:20261004T120000
DTEND;TZID=Europe/Madrid:20261004T140000
DTSTAMP:20260410T080855Z
URL:https://www.urmara.com/ekitaldiak/thoreau-inguruan/
SUMMARY:Thoreau inguruan
DESCRIPTION:Hitzaldia / Charla:\n\n 	Antonio Casado da Rocha\n\n\n\n\nSarre
 ra dohainik da\, baina aforoa mugatua izango du. Jarduera honetara joan na
 hi izanez gero\, idatzi zuen izen eta telefonoarekin helbide honetara: urm
 ara.alkiza@gmail.com.\n\nLa entrada será gratuita pero con aforo limitado
 . Los interesados en acudir a esta actividad podéis escribir con vuestro 
 nombre y teléfono a esta dirección: urmara.alkiza@gmail.com.\n\n\n\nOndo
 ren\, community food bazkaria / Después\, comida community food.\nBeganoe
 ntzako menua ere badugu / Hay menú vegano.\n\n20 €\nLekua hartzeko / Pa
 ra reservas: urmara.alkiza@gmail.com
ATTACH;FMTTYPE=image/jpeg:https://www.urmara.com/wp-content/uploads/2026/0
 4/graphik-2026-7-thoreau.jpg
LOCATION:Ur mara museoa\, Azaldegi Bailara\, 18\, Alkiza\, Gipuzkoa\, 20494
 \, Euskal Herria\, Spain
X-APPLE-STRUCTURED-LOCATION;VALUE=URI;X-ADDRESS=Azaldegi Bailara\, 18\, Alk
 iza\, Gipuzkoa\, 20494\, Euskal Herria\, Spain;X-APPLE-RADIUS=100;X-TITLE=
 Ur mara museoa:geo:0,0
END:VEVENT
BEGIN:VTIMEZONE
TZID:Europe/Madrid
X-LIC-LOCATION:Europe/Madrid
BEGIN:DAYLIGHT
DTSTART:20260329T030000
TZOFFSETFROM:+0100
TZOFFSETTO:+0200
TZNAME:CEST
END:DAYLIGHT
END:VTIMEZONE
END:VCALENDAR